BEGIN:VCALENDAR
PRODID:-//event//iCal4j 1.0//EN
CALSCALE:GREGORIAN
BEGIN:VEVENT
DTSTAMP:20260419T122807Z
DTSTART:20260504T130000Z
DTEND:20260505T220000Z
SUMMARY:osbi-advanced-sexual-assault-investigations-training-course
LOCATION:Osage County Sheriff's Training Center 900 St. Paul Ave Pawhuska
  OK 74056
END:VEVENT
END:VCALENDAR
