BEGIN:VCALENDAR
PRODID:-//event//iCal4j 1.0//EN
CALSCALE:GREGORIAN
BEGIN:VEVENT
DTSTAMP:20260419T123649Z
DTSTART:20251002T133000Z
DTEND:20251002T213000Z
SUMMARY:osbi-2025-polygraph-seminar
LOCATION:JD McCarty Center 2002 East Robinson Street Norman OK 73071
END:VEVENT
END:VCALENDAR
